Workbook

Sheet WA2NNA Index
E2: WA2NNA Best Index
C3: WAter Index | D3: =WAter!J3 -> 3.5 | E3: =D3+D4+D5+D6+D7+D8 -> 20.5
C4: WAste Index | D4: =WAste!J3 -> 4.3333333
C5: Nature and biodiversity Index | D5: =Nature!J3 -> 3
C6: Noise Index | D6: =Noise!J3 -> 3.6666667
C7: Air Index | D7: =Air!J3 -> 4.3333333
C8: Energy and climate Index | D8: =Energy!J3 -> 1.6666667
M12: Water | N12: 3
M13: Waste | N13: 3
M14: Nature and biodiversity | N14: 3
M15: Noise | N15: 3
M16: Air | N16: 3
M17: Energy and climate | N17: 3
M18: WA2NNA BEST Index | N18: 1

Sheet WAter
C3: Compilare 3 delle 4 sezioni (WAter1, WAter2, WAter3 e WAter4) per la definizione del WAter Index | F3: WAter Index | J3: =IF(Foglio1!C10>3,"Popolare solo 3 indicatori dell'area tematica WAter",IF(Foglio1!C10<3,"Popolare 3 indicatori dell'area tematica WAter",Foglio1!C9)) -> 3.5
C11: WAter1 | F11: Consumo di acqua per usi domestici [litri/pro-capite giorno]
H13: Valore di Stato - S | K13: 144 | L13: litri/(ab*giorno)
H17: Valore di Riferimento - R | K17: 144 | L17: litri/(ab*giorno)
H21: WAter1 | K21: =IF(K13="","",IF(K13/K17*100<75,5,IF(AND(K13/K17*100>=75,K13/K17*100<=100),4,IF(AND(K13/K17*100>100,K13/K17*100<=150),3,IF(AND(K13/K17*100>150,K13/K17*100<=200),2,IF(K13/K17*100>200,1,)))))) -> 4
S22: #VALUE!
C28: WAter2 | F28: Percentuale di acque reflue urbane che soddisfano i requisiti della direttiva sul trattamento delle acque reflue urbane (raccolta e trattamento secondario) [%]
H30: Valore di Stato - S | K30: 95 | L30: %
H34: Valore di Riferimento - R | K34: 100 | L34: %
H38: WAter2 | K38: =IF(K30="","",IF(K30=100,5,IF(AND(K30<100,K30>=90),4,IF(AND(K30<90,K30>=80),3,IF(AND(K30<80,K30>=70),2,IF(K30<70,1,)))))) -> 4
S39: #VALUE!
C45: WAter3 | F45: Perdite idriche dell’infrastruttura (perdite lineari [mc/km] e percentuali [%])
H47: Valore di Stato - S1 | K47: 52.3 | L47: %
H51: Valore di Riferimento - R1 | K51: 26.1 | L51: %
H55: Componente a) | K55: =IF(K47="","",IF(K47/K51*100<75,5,IF(AND(K47/K51*100>=75,K47/K51*100<=100),4,IF(AND(K47/K51*100>100,K47/K51*100<=150),3,IF(AND(K47/K51*100>150,K47/K51*100<=200),2,IF(K47/K51*100>200,1,)))))) -> 1
H58: Valore di Stato - S2 | K58: 15 | L58: m3/(g*km)
S59: #VALUE!
H62: Valore di Riferimento - R2 | K62: 14 | L62: m3/(g*km)
H66: Componente b) | K66: =IF(K58="","",IF(K58/K62*100<=100,5,IF(AND(K58/K62*100>100,K58/K62*100<=200),4,IF(AND(K58/K62*100>200,K58/K62*100<=300),3,IF(AND(K58/K62*100>300,K58/K62*100<=400),2,IF(K58/K62*100>400,1,)))))) -> 4
H69: WAter3 | K69: =IF(K47="","",(K55+K66)/2) -> 2.5
C76: WAter4 | F76: Consumo di acqua per usi autorizzati [litri/pro-capite giorno]
H78: Valore di Stato - S | L78: litri/(ab*giorno)
H82: Valore di Riferimento - R | K82: 214 | L82: litri/(ab*giorno)
H86: WAter4 | K86: =IF(K78="","",IF(K78/K82*100<75,5,IF(AND(K78/K82*100>=75,K78/K82*100<=100),4,IF(AND(K78/K82*100>100,K78/K82*100<=150),3,IF(AND(K78/K82*100>150,K78/K82*100<=200),2,IF(K78/K82*100>200,1,))))))

Sheet WAste
C3: Compilare 3 delle 4 sezioni (WAste1, WAste2, WAste3 e WAste4) per la definizione del WAste Index | F3: WAste Index | J3: =IF(Foglio1!F10>3,"Popolare solo 3 indicatori dell'area tematica WAste",IF(Foglio1!F10<3,"Popolare 3 indicatori dell'area tematica WAste",Foglio1!F9)) -> 4.3333333
C11: WAste1 | F11: Rifiuti urbani prodotti pro capite [kg/ab anno]
H13: Valore di Stato - S | K13: 371 | L13: kg/(ab*anno)
H17: Valore di Riferimento - R | K17: 493.67 | L17: kg/(ab*anno)
H21: WAste1 | K21: =IF(K13="","",IF(K13/K17*100<75,5,IF(AND(K13/K17*100>=75,K13/K17*100<=100),4,IF(AND(K13/K17*100>100,K13/K17*100<=150),3,IF(AND(K13/K17*100>150,K13/K17*100<=200),2,IF(K13/K17*100>200,1,)))))) -> 4
S22: #VALUE!
C28: WAste2 | F28: Tasso di riciclo dei rifiuti urbani [%]
H30: Valore di Stato - S | K30: 65 | L30: %
H34: Valore di Riferimento - R | K34: 60 | L34: %
H38: WAste2 | K38: =IF(K30="","",IF(K30/K34*100>=100,5,IF(AND(K30/K34*100>=75,K30/K34*100<100),4,IF(AND(K30/K34*100>=50,K30/K34*100<75),3,IF(AND(K30/K34*100>=25,K30/K34*100<50),2,IF(K30/K34*100<25,1,)))))) -> 5
S39: #VALUE!
C45: WAste3 | F45: Percentuale di rifiuti raccolti in maniera differenziata [%]
H47: Valore di Stato - S | K47: 80 | L47: %
H51: Valore di Riferimento - R | K51: 65 | L51: %
H55: WAste3 | K55: =IF(K47="","",IF(K47>=85,5,IF(AND(K47>=70,K47<85),4,IF(AND(K47>=55,K47<70),3,IF(AND(K47>=40,K47<55),2,IF(K47<40,1,)))))) -> 4
C62: WAste4 | F62: Percentuale di rifiuti urbani smaltiti in discarica [%]
H64: Valore di Stato - S | L64: %
H68: Valore di Riferimento - R | K68: 10 | L68: %
H72: WAste4 | K72: =IF(K64="","",IF(K64/K68*100<=100,5,IF(AND(K64/K68*100>100,K64/K68*100<=150),4,IF(AND(K64/K68*100>150,K64/K68*100<=200),3,IF(AND(K64/K68*100>200,K64/K68*100<=250),2,IF(K64/K68*100>250,1,))))))
S73: #VALUE!

Sheet Nature
C3: Compilare 3 delle 6 sezioni per la definizione del Nature and biodiversity Index | F3: Nature and biodiversity Index | J3: =IF(Foglio1!I12>3,"Popolare solo 3 indicatori dell'area tematica Nature",IF(Foglio1!I12<3,"Popolare 3 indicatori dell'area tematica Nature",Foglio1!I11)) -> 3
C11: Nature1 | F11: Percentuale di aree naturali protette, aree ripristinate e naturalizzate, rispetto all’area comunale [%]
H13: Valore di Stato - S | K13: 17 | L13: %
H17: Valore di Riferimento - R | K17: 20 | L17: %
H21: Nature1 | K21: =IF(K13="","",IF(K13/K17*100>100,5,IF(AND(K13/K17*100>=65,K13/K17*100<=100),4,IF(AND(K13/K17*100>=35,K13/K17*100<65),3,IF(AND(K13/K17*100>=5,K13/K17*100<35),2,IF(K13/K17*100<5,1,)))))) -> 4
S22: #VALUE!
C28: Nature2 | F28: Percentuale di copertura arborea [%]
H30: Valore di Stato - S | L30: %
H34: Valore di Riferimento - R | K34: 55 | L34: %
H38: Nature2 | K38: =IF(K30="","",IF(K30/K34*100>=100,5,IF(AND(K30/K34*100>=75,K30/K34*100<100),4,IF(AND(K30/K34*100>=50,K30/K34*100<75),3,IF(AND(K30/K34*100>=25,K30/K34*100<50),2,IF(K30/K34*100<25,1,))))))
S39: #VALUE!
C45: Nature3 | F45: Variazione del numero di specie di uccelli autoctoni nell'area urbana o agglomerato urbano [n]
H47: Valore di Stato - S | L47: n
H51: Valore di Riferimento - R | K51: 4 | L51: n
H55: Nature3 | K55: =IF(K47="","",IF(K47/K51*100>=100,5,IF(AND(K47/K51*100>=75,K47/K51*100<100),4,IF(AND(K47/K51*100>=50,K47/K51*100<75),3,IF(AND(K47/K51*100>=25,K47/K51*100<50),2,IF(K47/K51*100<25,1,))))))
O58: nota: | P58: il valore di stato può includere anche valori negativi in caso
P59: di riduzione del numero di specie
C62: Nature4 | F62: Misure di connettività o di reti ecologiche per contrastare la frammentazione espresso in termini percentuali [%]
H64: Valore di Stato - S | K64: {='Calcolo della Connettività'!E15:E15} -> 18.402778 | L64: %
H68: Valore di Riferimento - R | K68: 79 | L68: %
H72: Nature4 | K72: =IF(K64="","",IF(K64/K68*100>100,5,IF(AND(K64/K68*100>75,K64/K68*100<=100),4,IF(AND(K64/K68*100>50,K64/K68*100<=75),3,IF(AND(K64/K68*100>25,K64/K68*100<=50),2,IF(K64/K68*100<=25,1,)))))) -> 1
S73: #VALUE!
O75: nota: | P75: Metodologia Deslauriers et al. (2018) basata sul calcolo
P76: dell'effettiva dimensione delle maglie delle aree naturali
C79: Nature5 | F79: Consumo netto di suolo [km2]
H81: Valore di Stato - S | K81: 0.05 | L81: km2
H85: Superficie comunale - S1 | K85: 349 | L85: km2
H87: Valore di Riferimento - R | K87: 0 | L87: km2
AE89: 2153600 | AF89: =AE89*0.13*0.03 -> 8399.04
AF90: =AE89*0.17*0.05 -> 18305.6
H91: Nature5 | K91: =IF(K81="","",IF(K81/K85*100<=0,5,IF(AND(K81/K85*100>0,K81/K85*100<=0.025),4,IF(AND(K81/K85*100>0.025,K81/K85*100<=0.05),3,IF(AND(K81/K85*100>0.05,K81/K85*100<=0.075),2,IF(K81/K85*100>0.075,1,)))))) -> 4
C98: Nature6 | F98: Riduzione percentuale del numero di prodotti fitosanitari pericolosi per l'ambiente utilizzati dal Comune [%]
H100: Valore di Stato - S | L100: %
H104: Valore di Riferimento - R | K104: 50 | L104: %
H108: Nature6 | K108: =IF(K100="","",IF(K100/K104*100>=100,5,IF(AND(K100/K104*100>=75,K100/K104*100<100),4,IF(AND(K100/K104*100>=50,K100/K104*100<75),3,IF(AND(K100/K104*100>=25,K100/K104*100<50),2,IF(K100/K104*100<25,1,))))))
O112: nota: | P112: Prodotti fitosanitari utilizzati direttamente, eventualmente
P113: integrati dalle informazioni dei soggetti terzi gestori delle
P114: aree frequentate dalla popolazione o da gruppi vulnerabili

Sheet Noise
C3: Compilare 3 delle 7 sezioni per la definizione del Noise Index | F3: Noise Index | J3: =IF(Foglio1!L13>3,"Popolare solo 3 indicatori dell'area tematica Noise",IF(Foglio1!L13<3,"Popolare 3 indicatori dell'area tematica Noise",Foglio1!L12)) -> 3.6666667
C11: Noise1 | F11: Percentuale della popolazione esposta a livelli medi di rumore giorno-sera-notte (Lden) ≥ 55 dB [%]
H13: Valore di Stato - S | L13: %
H17: Valore di Riferimento - R | K17: 42 | L17: %
H21: Noise1 | K21: =IF(K13="","",IF(K13/K17*100<=100,5,IF(AND(K13/K17*100>100,K13/K17*100<=150),4,IF(AND(K13/K17*100>150,K13/K17*100<=200),3,IF(AND(K13/K17*100>200,K13/K17*100<=250),2,IF(K13/K17*100>250,1,))))))
S22: #VALUE!
C28: Noise2 | F28: Percentuale della popolazione esposta al rumore notturno da traffico stradale ≥ 50 dB [%]* | N28: * valido esclusivamente se si dispongono di dati di rumore da traffico stradale derivanti da monitoraggio continuo
H30: Valore di Stato - S | L30: %
H34: Valore di Riferimento - R | K34: 42 | L34: %
H38: Noise2 | K38: =IF(K30="","",IF(K30/K34*100<=100,5,IF(AND(K30/K34*100>100,K30/K34*100<=150),4,IF(AND(K30/K34*100>150,K30/K34*100<=200),3,IF(AND(K30/K34*100>200,K30/K34*100<=250),2,IF(K30/K34*100>250,1,))))))
S39: #VALUE!
C45: Noise3 | F45: Percentuale di popolazione (adulta) con disturbi del sonno elevati [%]
H47: Valore di Stato - S | L47: %
H51: Valore di Riferimento - R | K51: 42 | L51: %
H55: Noise3 | K55: =IF(K47="","",IF(K47/K51*100<=100,5,IF(AND(K47/K51*100>100,K47/K51*100<=150),4,IF(AND(K47/K51*100>150,K47/K51*100<=200),3,IF(AND(K47/K51*100>200,K47/K51*100<=250),2,IF(K47/K51*100>250,1,))))))
C62: Noise4 | F62: Percentuale della popolazione esposta al rumore notturno (Lnight) ≥ 50 dB [%]
H64: Valore di Stato - S | L64: %
H68: Valore di Riferimento - R | K68: 42 | L68: %
H72: Noise4 | K72: =IF(K64="","",IF(K64/K68*100<=100,5,IF(AND(K64/K68*100>100,K64/K68*100<=150),4,IF(AND(K64/K68*100>150,K64/K68*100<=200),3,IF(AND(K64/K68*100>200,K64/K68*100<=250),2,IF(K64/K68*100>250,1,))))))
C77: Indicatori per Comuni non soggetti all'obbligo di redazione delle mappe acustiche ai sensi della Direttiva 49/2002/CE e del D.Lgs. 194/2005
C82: Noise5 | F82: Esistenza di piani sul rumore
H84: Noise5 | K84: 3
C91: Noise6 | F91: Esposti presentati dai cittadini in materia di inquinamento acustico [n]
H93: Valore di Stato - S | K93: 1 | L93: n. esposti
H97: Popolazione comunale - S1 | K97: 10000 | L97: n. abitanti
H98: Valore di Riferimento - R | K98: 14.8 | L98: n. segnalazioni per 100.000 abitanti
H102: Noise6 | K102: =IF(K93="","",IF((K93/(K98*K97/100000))*100<75,5,IF(AND((K93/(K98*K97/100000))*100>=75,(K93/(K98*K97/100000))*100<=100),4,IF(AND((K93/(K98*K97/100000))*100>100,(K93/(K98*K97/100000))*100<=150),3,IF(AND((K93/(K98*K97/100000))*100>150,(K93/(K98*K97/100000))*100<=200),2,IF((K93/(K98*K97/100000))*100>200,1,)))))) -> 5
C108: Noise7 | F108: Percentuale di sorgenti controllate per le quali si è riscontrato un superamento dei limiti [%]
H110: Valore di Stato - S | K110: 42 | L110: %
H114: Valore di Riferimento - R | K114: 45.4 | L114: %
H118: Noise7 | K118: =IF(K110="","",IF(K110/K114*100<50,5,IF(AND(K110/K114*100>=50,K110/K114*100<=75),4,IF(AND(K110/K114*100>75,K110/K114*100<=100),3,IF(AND(K110/K114*100>100,K110/K114*100<=150),2,IF(K110/K114*100>150,1,)))))) -> 3

Sheet Air
C3: Compilare 3 delle 4 sezioni (Air1, Air2, Air3 e Air4) per la definizione dell'Air Index | F3: Air Index | J3: =IF(Foglio1!O10>3,"Popolare solo 3 indicatori dell'area tematica Air",IF(Foglio1!O10<3,"Popolare 3 indicatori dell'area tematica Air",Foglio1!O9)) -> 4.3333333
C11: Air1 | F11: Concentrazione di particolato (PM10) [μg/m3]
H13: Valore di Stato - S | L13: μg/m3
H17: Valore di Riferimento - R | K17: 15 | L17: μg/m3
H21: Air1 | K21: =IF(K13="","",IF(K13/K17*100<=100,5,IF(AND(K13/K17*100>100,K13/K17*100<=150),4,IF(AND(K13/K17*100>150,K13/K17*100<=200),3,IF(AND(K13/K17*100>200,K13/K17*100<=250),2,IF(K13/K17*100>250,1,))))))
S22: #VALUE!
C28: Air2 | F28: Concentrazione di particolato (PM2,5) [μg/m3]
H30: Valore di Stato - S | K30: 7 | L30: μg/m3
H34: Valore di Riferimento - R | K34: 5 | L34: μg/m3
H38: Air2 | K38: =IF(K30="","",IF(K30/K34*100<=100,5,IF(AND(K30/K34*100>100,K30/K34*100<=150),4,IF(AND(K30/K34*100>150,K30/K34*100<=200),3,IF(AND(K30/K34*100>200,K30/K34*100<=250),2,IF(K30/K34*100>250,1,)))))) -> 4
S39: #VALUE!
C45: Air3 | F45: Concentrazione di NO2 [μg/m3]
H47: Valore di Stato - S | K47: 4 | L47: μg/m3
H51: Valore di Riferimento - R | K51: 10 | L51: μg/m3
H55: Air3 | K55: =IF(K47="","",IF(K47/K51*100<=100,5,IF(AND(K47/K51*100>100,K47/K51*100<=150),4,IF(AND(K47/K51*100>150,K47/K51*100<=200),3,IF(AND(K47/K51*100>200,K47/K51*100<=250),2,IF(K47/K51*100>250,1,)))))) -> 5
C62: Air4 | F62: Concentrazione di Ozono (O3) [μg/m3]
H64: Valore di Stato - S | K64: 150 | L64: μg/m3
H68: Valore di Riferimento - R | K68: 100 | L68: μg/m3
H72: Air4 | K72: =IF(K64="","",IF(K64/K68*100<=100,5,IF(AND(K64/K68*100>100,K64/K68*100<=150),4,IF(AND(K64/K68*100>150,K64/K68*100<=200),3,IF(AND(K64/K68*100>200,K64/K68*100<=250),2,IF(K64/K68*100>250,1,)))))) -> 4

Sheet Energy
C3: Compilare 3 delle 5 sezioni per la definizione dell'Energy and climate Index | F3: Energy and climate Index | J3: =IF(Foglio1!R11>3,"Popolare solo 3 indicatori dell'area tematica Energy",IF(Foglio1!R11<3,"Popolare 3 indicatori dell'area tematica Energy",Foglio1!R10)) -> 1.6666667
C11: Energy1 | F11: Emissioni di gas serra [tonn CO2eq]
H13: Valore di Stato - S | L13: tonn CO2eq
H17: Valore di Riferimento - R | K17: 1500 | L17: tonn CO2eq
H21: Energy1 | K21: =IF(K13="","",IF(K13/K17*100<=100,5,IF(AND(K13/K17*100>100,K13/K17*100<=150),4,IF(AND(K13/K17*100>150,K13/K17*100<=200),3,IF(AND(K13/K17*100>200,K13/K17*100<=250),2,IF(K13/K17*100>250,1,))))))
S22: #VALUE!
P24: nota | Q24: Se disponibili, il dato può essere integrato dalle emissioni
Q25: a livello del territorio
C28: Energy2 | F28: Percentuale di energia rinnovabile autoprodotta [%]
H30: Valore di Stato - S | L30: %
H34: Valore di Riferimento - R | K34: 30 | L34: %
H38: Energy2 | K38: =IF(K30="","",IF(K30/K34*100>=100,5,IF(AND(K30/K34*100>=75,K30/K34*100<100),4,IF(AND(K30/K34*100>=50,K30/K34*100<75),3,IF(AND(K30/K34*100>=25,K30/K34*100<50),2,IF(K30/K34*100<25,1,))))))
S39: #VALUE!
N41: nota: | O41: Metodologia PNIEC ->
O42: [produzione di energia elettrica da fonti rinnovabili (Fotovoltaico) (tep)
O43: + consumo di energia termica da rinnovabile (solare e/o teleriscaldamento) (tep)]
O44: / [consumi di energia complessivi (tep)]
C45: Energy3 | F45: Dotazione di aree verdi per abitante [mq/ab]
H47: Valore di Stato - S | K47: 1 | L47: mq/ab
H51: Valore di Riferimento - R | K51: 45 | L51: mq/ab
H55: Energy3 | K55: =IF(K47="","",IF(K47/K51*100>=100,5,IF(AND(K47/K51*100>=75,K47/K51*100<100),4,IF(AND(K47/K51*100>=50,K47/K51*100<75),3,IF(AND(K47/K51*100>=25,K47/K51*100<50),2,IF(K47/K51*100<25,1,)))))) -> 1
C62: Energy4 | F62: Densità di verde urbano [% su superficie comunale]
H64: Valore di Stato - S | K64: 5 | L64: %
H68: Valore di Riferimento - R | K68: 25 | L68: %
H72: Energy4 | K72: =IF(K64="","",IF(K64/K68*100>100,5,IF(AND(K64/K68*100>75,K64/K68*100<=100),4,IF(AND(K64/K68*100>50,K64/K68*100<=75),3,IF(AND(K64/K68*100>25,K64/K68*100<=50),2,IF(K64/K68*100<=25,1,)))))) -> 1
C79: Energy5 | F79: Distanza media tra le abitazioni e l'area verde più vicina di dimensioni superiori a 0,5 ettari
H81: Valore di Stato - S | K81: 451 | L81: m
H85: Valore di Riferimento - R | K85: 300 | L85: m
H89: Energy5 | K89: =IF(K81="","",IF(K81/K85*100<=100,5,IF(AND(K81/K85*100>100,K81/K85*100<=150),4,IF(AND(K81/K85*100>150,K81/K85*100<=200),3,IF(AND(K81/K85*100>200,K81/K85*100<=250),2,IF(K81/K85*100>250,1,)))))) -> 3

Sheet Calcolo della Connettività
B11: Misura di connettività o reti ecologiche per contrastare la frammentazione
B15: Connettività | E15: =F17/D17/D17*100 -> 18.402778 | F15: %
C17: Atotal | D17: =SUM(E20:E1019) -> 24 | E17: AGi^2 | F17: =SUM(C20:C1019) -> 106
C20: =E20^2 -> 4 | D20: AG1 | E20: 2 | F20: Km2
C21: =E21^2 -> 9 | D21: AG2 | E21: 3 | F21: Km2
C22: =E22^2 -> 16 | D22: AG3 | E22: 4 | F22: Km2
C23: =E23^2 -> 25 | D23: AG4 | E23: 5 | F23: Km2
C24: =E24^2 -> 36 | D24: AG5 | E24: 6 | F24: Km2
C25: =E25^2 -> 16 | D25: AG6 | E25: 4 | F25: Km2
C26: =E26^2 -> 0 | D26: AG7 | F26: Km2
C27: =E27^2 -> 0 | D27: AG8 | F27: Km2
C28: =E28^2 -> 0 | D28: AG9 | F28: Km2
C29: =E29^2 -> 0 | D29: AG10 | F29: Km2
C30: =E30^2 -> 0 | D30: AG11 | F30: Km2
C31: =E31^2 -> 0 | D31: AG12 | F31: Km2
C32: =E32^2 -> 0 | D32: AG13 | F32: Km2
C33: =E33^2 -> 0 | D33: AG14 | F33: Km2
C34: =E34^2 -> 0 | D34: AG15 | F34: Km2
C35: =E35^2 -> 0 | D35: AG16 | F35: Km2
C36: =E36^2 -> 0 | D36: AG17 | F36: Km2
C37: =E37^2 -> 0 | D37: AG18 | F37: Km2
... C1019: =E1019^2 -> 0 | D1019: AG1000 | F1019: Km2

Sheet Foglio3
B7: I | C7: Punteggio | E7: I | F7: Punteggio | H7: I | I7: Punteggio | K7: I | L7: Punteggio | N7: I | O7: Punteggio | R7: I | S7: Punteggio | U7: I | V7: Punteggio | X7: Componente a) | Y7: Punteggio | Z7: Componente b) | AA7: Punteggio | AC7: I | AD7: Punteggio
B8: I > 100 | C8: 5 | E8: I ≥ 100 | F8: 5 | H8: I ≥ 85 | I8: 5 | K8: I ≤ 100 | L8: 5 | N8: I < 50 | O8: 5 | R8: I < 75 | S8: 5 | U8: I = 100 | V8: 5 | X8: a < 75 | Y8: 5 | Z8: b ≤ 100 | AA8: 5 | AC8: I ≤ 0 | AD8: 5
B9: 65 ≤ I ≤ 100 | C9: 4 | E9: 75 ≤ I < 100 | F9: 4 | H9: 70 ≤ I < 85 | I9: 4 | K9: 100 < I ≤ 150 | L9: 4 | N9: 50≤ I ≤ 75 | O9: 4 | R9: 75 ≤ I ≤ 100 | S9: 4 | U9: 90 ≤ I < 100 | V9: 4 | X9: 75 ≤ a ≤100 | Y9: 4 | Z9: 100 < b ≤ 200 | AA9: 4 | AC9: 0 < I ≤ 0,025 | AD9: 4
B10: 35 ≤ I < 65 | C10: 3 | E10: 50 ≤ I < 75 | F10: 3 | H10: 55 ≤ I < 70 | I10: 3 | K10: 150 < I ≤ 200 | L10: 3 | N10: 75 < I ≤ 100 | O10: 3 | R10: 100 < I ≤ 150 | S10: 3 | U10: 80 ≤ I < 90 | V10: 3 | X10: 100 < a ≤ 150 | Y10: 3 | Z10: 200 < b ≤ 300 | AA10: 3 | AC10: 0,025 < I ≤ 0,05 | AD10: 3
B11: 5 ≤ I < 35 | C11: 2 | E11: 25 ≤ I < 50 | F11: 2 | H11: 40 ≤ I < 55 | I11: 2 | K11: 200 < I ≤ 250 | L11: 2 | N11: 100 < I ≤ 150 | O11: 2 | R11: 150 < I ≤ 200 | S11: 2 | U11: 70 ≤ I < 80 | V11: 2 | X11: 150 < a ≤ 200 | Y11: 2 | Z11: 300 < b ≤ 400 | AA11: 2 | AC11: 0,05 < I ≤ 0,075 | AD11: 2
B12: I < 5 | C12: 1 | E12: I < 25 | F12: 1 | H12: I < 40 | I12: 1 | K12: I > 250 | L12: 1 | N12: I > 150 | O12: 1 | R12: I > 200 | S12: 1 | U12: I < 70 | V12: 1 | X12: a > 200 | Y12: 1 | Z12: b > 400 | AA12: 1 | AC12: I > 0,075 | AD12: 1
B18: I | C18: Punteggio
B19: I > 100 | C19: 5
B20: 75 < I ≤ 100 | C20: 4
B21: 50 < I ≤ 75 | C21: 3
B22: 25 < I ≤ 50 | C22: 2
B23: I ≤ 25 | C23: 1

Sheet Foglio1
B4: Water Index | E4: Waste Index | H4: Nature Index | K4: Noise Index | N4: Air Index | Q4: Energy Index
B5: Water1 | C5: =IF(WAter!K21="","",WAter!K21) -> 4 | E5: Waste1 | F5: =IF(WAste!K21="","",WAste!K21) -> 4 | H5: Nature1 | I5: =IF(Nature!K21="","",Nature!K21) -> 4 | K5: Noise1 | L5: =IF(Noise!K21="","",Noise!K21) | N5: Air1 | O5: =IF(Air!K21="","",Air!K21) | Q5: Energy1 | R5: =IF(Energy!K21="","",Energy!K21)
B6: Water2 | C6: =IF(WAter!K38="","",WAter!K38) -> 4 | E6: Waste2 | F6: =IF(WAste!K38="","",WAste!K38) -> 5 | H6: Nature2 | I6: =IF(Nature!K38="","",Nature!K38) | K6: Noise2 | L6: =IF(Noise!K38="","",Noise!K38) | N6: Air2 | O6: =IF(Air!K38="","",Air!K38) -> 4 | Q6: Energy2 | R6: =IF(Energy!K38="","",Energy!K38)
B7: Water3 | C7: =IF(WAter!K69="","",WAter!K69) -> 2.5 | E7: Waste3 | F7: =IF(WAste!K55="","",WAste!K55) -> 4 | H7: Nature3 | I7: =IF(Nature!K55="","",Nature!K55) | K7: Noise3 | L7: =IF(Noise!K55="","",Noise!K55) | N7: Air3 | O7: =IF(Air!K55="","",Air!K55) -> 5 | Q7: Energy3 | R7: =IF(Energy!K55="","",Energy!K55) -> 1
B8: Water4 | C8: =IF(WAter!K86="","",WAter!K86) | E8: Waste4 | F8: =IF(WAste!K72="","",WAste!K72) | H8: Nature4 | I8: =IF(Nature!K72="","",Nature!K72) -> 1 | K8: Noise4 | L8: =IF(Noise!K72="","",Noise!K72) | N8: Air4 | O8: =IF(Air!K72="","",Air!K72) -> 4 | Q8: Energy4 | R8: =IF(Energy!K72="","",Energy!K72) -> 1
B9: media | C9: =AVERAGE(C5:C8) -> 3.5 | E9: media | F9: =AVERAGE(F5:F8) -> 4.3333333 | H9: Nature5 | I9: =IF(Nature!K91="","",Nature!K91) -> 4 | K9: Noise5 | L9: =IF(Noise!K84="","",Noise!K84) -> 3 | N9: media | O9: =AVERAGE(O5:O8) -> 4.3333333 | Q9: Energy5 | R9: =IF(Energy!K89="","",Energy!K89) -> 3
B10: Conta.numeri | C10: =COUNT(C5:C8) -> 3 | E10: Conta.numeri | F10: =COUNT(F5:F8) -> 3 | H10: Nature6 | I10: =IF(Nature!K108="","",Nature!K108) | K10: Noise6 | L10: =IF(Noise!K102="","",Noise!K102) -> 5 | N10: Conta.numeri | O10: =COUNT(O5:O8) -> 3 | Q10: media | R10: =AVERAGE(R5:R9) -> 1.6666667
H11: media | I11: =AVERAGE(I5:I10) -> 3 | K11: Noise7 | L11: =IF(Noise!K118="","",Noise!K118) -> 3 | Q11: Conta.numeri | R11: =COUNT(R5:R9) -> 3
H12: Conta.numeri | I12: =COUNT(I5:I10) -> 3 | K12: media | L12: =AVERAGE(L5:L11) -> 3.6666667
K13: Conta.numeri | L13: =COUNT(L5:L11) -> 3
